BEGIN:VCALENDAR
VERSION:2.0
PRODID:-//CHRODIS - ECPv4.9.9//NONSGML v1.0//EN
CALSCALE:GREGORIAN
METHOD:PUBLISH
X-WR-CALNAME:CHRODIS
X-ORIGINAL-URL:https://chrodis.eu
X-WR-CALDESC:Events for CHRODIS
BEGIN:VTIMEZONE
TZID:Europe/Helsinki
BEGIN:DAYLIGHT
TZOFFSETFROM:+0200
TZOFFSETTO:+0300
TZNAME:EEST
DTSTART:20160327T010000
END:DAYLIGHT
BEGIN:STANDARD
TZOFFSETFROM:+0300
TZOFFSETTO:+0200
TZNAME:EET
DTSTART:20161030T010000
END:STANDARD
END:VTIMEZONE
BEGIN:VEVENT
DTSTART;VALUE=DATE:20160523
DTEND;VALUE=DATE:20160525
DTSTAMP:20260424T041254
CREATED:20160226T102911Z
LAST-MODIFIED:20170424T131740Z
UID:4153-1463961600-1464134399@chrodis.eu
SUMMARY:Health Promotion Study Visit 3 (Portugal)
DESCRIPTION:[vc_row][vc_column][vc_column_text disable_pattern=”true” align=”left” margin_bottom=”0″]A study visit in Lisbon took place on 23rd-24th May. It focused on the Portuguese National Programme on Healthier Eating (PNPAS)\, a concerted and cross cutting set of actions to encourage the consumption of certain types of food with the objective of improving the nutritional status and health of the population. \nDownloads\n\nProgramme\nSummary of all 41 selected good practices\n\n  \n  \nMeeting presentations \nDay 1 (May 23\, 2016): \nProf. Pedro Graça (PNPAS Director)- National Programme presentation \nJorge Oliveira (Active Media)- Communication and literacy in nutrition \nClaúdia Rodrigues (Nutri Ventures)- Nutrition education – Nutri Ventures Project \nDra. Carla Gonçalves- Development of innovation: portable measuring device for salt  \nDra. Teresa Sancho- (ARS/Regional Administration of Health\, Algarve): National Program for the Promotion of Healthy Eating (PNPAS) at Algarve Region \nDay 2 (May 24\, 2016): \nDr. Rui Lima (Ministry of Education)- Intervention projects in schools \nFood industry projects – LIDL “Campaign to promote fruit and vegetables to children” \nSOBE- Oral Health School Libraries [/vc_column_text][/vc_column][/vc_row][vc_row][vc_column width=”1/1″][mk_gallery title=”Photo gallery” images=”4481\,4480\,4479\,4478\,4477\,4476\,4475\,4473\,4472\,4471\,4470\,4468″ column=”3″ height=”250″ frame_style=”simple” disable_title=”false” image_quality=”1″ pagination=”false” count=”10″ pagination_style=”1″ order=”ASC” orderby=”date”][/vc_column][/vc_row]\n
URL:https://chrodis.eu/event/health-promotion-study-visit-3-portugal/
LOCATION:Unnamed Venue\, Lisbon
CATEGORIES:Internal,JA-CHRODIS,Meeting,WP5 - Health Promotion
END:VEVENT
END:VCALENDAR