BEGIN:VCALENDAR
VERSION:2.0
PRODID:-//CHRODIS - ECPv4.9.9//NONSGML v1.0//EN
CALSCALE:GREGORIAN
METHOD:PUBLISH
X-WR-CALNAME:CHRODIS
X-ORIGINAL-URL:https://chrodis.eu
X-WR-CALDESC:Events for CHRODIS
BEGIN:VTIMEZONE
TZID:Europe/Helsinki
BEGIN:DAYLIGHT
TZOFFSETFROM:+0200
TZOFFSETTO:+0300
TZNAME:EEST
DTSTART:20150329T010000
END:DAYLIGHT
BEGIN:STANDARD
TZOFFSETFROM:+0300
TZOFFSETTO:+0200
TZNAME:EET
DTSTART:20151025T010000
END:STANDARD
END:VTIMEZONE
BEGIN:VEVENT
DTSTART;VALUE=DATE:20150514
DTEND;VALUE=DATE:20150517
DTSTAMP:20260424T141956
CREATED:20150204T104827Z
LAST-MODIFIED:20150323T132531Z
UID:2076-1431561600-1431820799@chrodis.eu
SUMMARY:EuroPRevent
DESCRIPTION:The European Association for Cardiovascular Prevention and Rehabilitation is organising the EuroPRevent 2015 14-16th May in Lisbon\, Portugal\, where leading experts will get together in an international forum to present their research and share knowledge. The theme of the 2015 congress is: Addressing Inequalities in Cardiovascular Health. \nRegister here. \nAccess the programme here. \n
URL:https://chrodis.eu/event/ehealth-week/
LOCATION:Lisbon – Portugal\, Lisbon\, Portugal
CATEGORIES:Conference,External
ATTACH;FMTTYPE=image/gif:https://chrodis.eu/wp-content/uploads/2015/02/EuroPRevent.gif
END:VEVENT
END:VCALENDAR