BEGIN:VCALENDAR
VERSION:2.0
PRODID:-//CHRODIS - ECPv4.9.9//NONSGML v1.0//EN
CALSCALE:GREGORIAN
METHOD:PUBLISH
X-WR-CALNAME:CHRODIS
X-ORIGINAL-URL:https://chrodis.eu
X-WR-CALDESC:Events for CHRODIS
BEGIN:VTIMEZONE
TZID:Europe/Helsinki
BEGIN:DAYLIGHT
TZOFFSETFROM:+0200
TZOFFSETTO:+0300
TZNAME:EEST
DTSTART:20160327T010000
END:DAYLIGHT
BEGIN:STANDARD
TZOFFSETFROM:+0300
TZOFFSETTO:+0200
TZNAME:EET
DTSTART:20161030T010000
END:STANDARD
END:VTIMEZONE
BEGIN:VEVENT
DTSTART;TZID=Europe/Helsinki:20160203T140000
DTEND;TZID=Europe/Helsinki:20160203T173000
DTSTAMP:20260423T230037
CREATED:20151222T144214Z
LAST-MODIFIED:20160420T082520Z
UID:3955-1454508000-1454520600@chrodis.eu
SUMMARY:2nd Governing Board Meeting
DESCRIPTION:[vc_row][vc_column][vc_column_text disable_pattern=”true” align=”left” margin_bottom=”0″]\n\n\nJA-CHRODIS is organising its 2nd Governing Board meeting in Madrid (Spain) on the 3rd February 2016. \nRead the minutes of the meeting \nCheck out the final agenda and the questions to facilitate discussion \nClick here to download the presentations \nOverview Documents \nJA-CHRODIS Work Packages – 2015 Summary \nThe Sewing Thread of JA-CHRODIS: Bringing the exchange and transfer of practices into motion \n  \n\nThe registration is now closed. If you have any questions\, please don’t hesitate to contact info@chrodis.eu. \n\n[/vc_column_text][/vc_column][/vc_row]\n
URL:https://chrodis.eu/event/2nd-governing-board-meeting/
LOCATION:Escuela Nacional de Sanidad\, Avda. Monforte de Lemos 5\, Madrid\, 28029
ORGANIZER;CN="ISCIII":MAILTO:info@chrodis.eu
END:VEVENT
END:VCALENDAR