BEGIN:VCALENDAR
VERSION:2.0
PRODID:-//CHRODIS - ECPv4.9.9//NONSGML v1.0//EN
CALSCALE:GREGORIAN
METHOD:PUBLISH
X-WR-CALNAME:CHRODIS
X-ORIGINAL-URL:https://chrodis.eu
X-WR-CALDESC:Events for CHRODIS
BEGIN:VTIMEZONE
TZID:Europe/Helsinki
BEGIN:DAYLIGHT
TZOFFSETFROM:+0200
TZOFFSETTO:+0300
TZNAME:EEST
DTSTART:20160327T010000
END:DAYLIGHT
BEGIN:STANDARD
TZOFFSETFROM:+0300
TZOFFSETTO:+0200
TZNAME:EET
DTSTART:20161030T010000
END:STANDARD
END:VTIMEZONE
BEGIN:VEVENT
DTSTART;TZID=Europe/Helsinki:20160203T093000
DTEND;TZID=Europe/Helsinki:20160203T140000
DTSTAMP:20260424T002952
CREATED:20151222T140630Z
LAST-MODIFIED:20160420T082350Z
UID:3951-1454491800-1454508000@chrodis.eu
SUMMARY:2nd Advisory Board Meeting
DESCRIPTION:[vc_row][vc_column][vc_column_text disable_pattern=”true” align=”left” margin_bottom=”0″]\n\nJA-CHRODIS is organising its 2nd Advisory Board meeting in Madrid (Spain) on the 3rd February 2016. \nClick here to view the minutes \nClick here to view the final agenda \nClick here to view the presentations \nOverview Documents \nJA-CHRODIS Work Packages – 2015 Summary \nThe Sewing Thread of JA-CHRODIS: Bringing the exchange and transfer of practices into motion \n  \n\nThe registration is now closed. If you have any questions\, please don’t hesitate to contact info@chrodis.eu.[/vc_column_text][mk_padding_divider size=”40″][mk_gallery images=”4228\,4229\,4230\,4231\,4232\,4233\,4234\,4227″ column=”3″ height=”250″ frame_style=”simple” disable_title=”false” image_quality=”1″ pagination=”false” count=”10″ pagination_style=”1″ order=”ASC” orderby=”date”][/vc_column][/vc_row]\n
URL:https://chrodis.eu/event/2nd-advisory-board-meeting/
LOCATION:Escuela Nacional de Sanidad\, Avda. Monforte de Lemos 5\, Madrid\, 28029
ORGANIZER;CN="ISCIII":MAILTO:info@chrodis.eu
END:VEVENT
END:VCALENDAR